BEGIN:VCALENDAR
VERSION:2.0
PRODID:-//eventon.com NONSGML v1.0//EN
CALSCALE:GREGORIAN
METHOD:PUBLISH
BEGIN:VEVENT
UID:69e88cd40a2d3
DTSTAMP:20260422T085444Z
DTSTART:20250704T193000Z
DTEND:20250704T213000Z
LOCATION:812 S High St\,  Columbia\,  TN 38401\,  USA 812 S High St\,  Columbia\,  TN 38401\,  USA
SUMMARY:An Evening of Jazz with Cord Martin at The Mulehouse
DESCRIPTION:An Evening of Jazz with Cord Martin at The Mulehouse\nhttps://w
 ww.experiencemaury.com/events/an-evening-of-jazz-with-cord-martin-at-the-mu
 lehouse/
URL:https://www.experiencemaury.com/events/an-evening-of-jazz-with-cord-martin-at-the-mulehouse/
END:VEVENT
END:VCALENDAR