BEGIN:VCALENDAR
VERSION:2.0
PRODID:-//eventon.com NONSGML v1.0//EN
CALSCALE:GREGORIAN
METHOD:PUBLISH
BEGIN:VEVENT
UID:69e58ecebaeb9
DTSTAMP:20260420T022622Z
DTSTART:20260422T100000Z
DTEND:20260422T235900Z
LOCATION:Harvey Park 4001 Miles Johnson Parkway
SUMMARY:Earth Day Party
DESCRIPTION:Celebrate Earth Day with us at Harvey Park! Get your hands in 
 the soil\,  plant your very own take-home plant\,  and enjoy a day of fresh
  air\,  fun\,  and nature. Bring your friends and family. We can’t wait t
 o see you there!\nhttps://www.experiencemaury.com/events/earth-day-party/
URL:https://www.experiencemaury.com/events/earth-day-party/
END:VEVENT
END:VCALENDAR