BEGIN:VCALENDAR
VERSION:2.0
PRODID:-//eventon.com NONSGML v1.0//EN
CALSCALE:GREGORIAN
METHOD:PUBLISH
BEGIN:VEVENT
UID:69e8a32a9d735
DTSTAMP:20260422T103002Z
DTSTART:20260404T110000Z
DTEND:20260404T130000Z
LOCATION:Nashville Krav Maga - Columbia 2520 Hospitality Dr.
SUMMARY:Free Community Easter Egg Hunt!
DESCRIPTION:Â Spring Has Sprung at Nashville Krav Maga Columbia!Â  Ages 5â€
 “12 | FREE Event | Open to Members &amp; Non-Members Weâ€™re celebrating wi
 th a day full of excitement and fun for everyone! Join us for:Â Martial Art
 s Lessons â€“ Get a taste of our dynamic training sessionsÂ Board Breaking 
 â€“ Watch or try[..]\nhttps://www.experiencemaury.com/events/free-community
 -easter-egg-hunt/
URL:https://www.experiencemaury.com/events/free-community-easter-egg-hunt/
END:VEVENT
END:VCALENDAR