BEGIN:VCALENDAR
VERSION:2.0
PRODID:-//eventon.com NONSGML v1.0//EN
CALSCALE:GREGORIAN
METHOD:PUBLISH
BEGIN:VEVENT
UID:69e4dddff2291
DTSTAMP:20260419T135127Z
DTSTART:20260418T100000Z
DTEND:20260418T130000Z
LOCATION:Fischer Park 4285 Port Royal Rd.
SUMMARY:Soaring into Spring
DESCRIPTION:Catch the breeze and soar into spring!  Join us for a fun morn
 ing of kite flying and creativity as you design your very own kite to take 
 home. This FREE event includes a kite for each participant to decorate and 
 fly. You’re also welcome to bring your own kite and[..]\nhttps://www.expe
 riencemaury.com/events/soaring-into-spring/
URL:https://www.experiencemaury.com/events/soaring-into-spring/
END:VEVENT
END:VCALENDAR