BEGIN:VCALENDAR
VERSION:2.0
PRODID:-//eventon.com NONSGML v1.0//EN
CALSCALE:GREGORIAN
METHOD:PUBLISH
BEGIN:VEVENT
UID:69e61dcc84300
DTSTAMP:20260420T123628Z
DTSTART:20260418T100000Z
DTEND:20260418T110000Z
LOCATION:Yanahli Park 123 Yanahli Park Way
SUMMARY:Sound Bath w/Golden Sol Healing
DESCRIPTION:Join us for a deeply restorative sound bath with Golden Sol Hea
 ling designed to help you relax\,  reset\,  and unwind. During this immersi
 ve experience\,  crystal singing bowls and grounding tones will fill the sp
 ace with gentle\,  layered sound designed to calm the nervous system and qu
 iet the mind. Participants will[..]\nhttps://www.experiencemaury.com/events
 /sound-bath-w-golden-sol-healing/
URL:https://www.experiencemaury.com/events/sound-bath-w-golden-sol-healing/
END:VEVENT
END:VCALENDAR