BEGIN:VCALENDAR
VERSION:2.0
PRODID:-//eventon.com NONSGML v1.0//EN
CALSCALE:GREGORIAN
METHOD:PUBLISH
BEGIN:VEVENT
UID:69e88cc9e2179
DTSTAMP:20260422T085433Z
DTSTART:20260410T100000Z
DTEND:20260410T110000Z
LOCATION:Yanahli Park 123 Yanahli Park Way
SUMMARY:Nature Lab: Meet an Owl + Owl Pellet Dissection
DESCRIPTION:Dive into the wonders of the natural world with Nature Lab! Des
 igned for homeschoolers ages 8–10\,  this enrichment program offers hands
 -on activities and engaging lessons centered around nature\,  ecology\,  an
 d scientific exploration. Each session features a new theme\,  offering stu
 dents opportunities to connect with the environment in meaningful ways. Dur
 ing[..]\nhttps://www.experiencemaury.com/events/nature-lab-meet-an-owl-owl-
 pellet-dissection/
URL:https://www.experiencemaury.com/events/nature-lab-meet-an-owl-owl-pellet-dissection/
END:VEVENT
END:VCALENDAR