BEGIN:VCALENDAR
VERSION:2.0
PRODID:-//eventon.com NONSGML v1.0//EN
CALSCALE:GREGORIAN
METHOD:PUBLISH
BEGIN:VEVENT
UID:69e8b93f840dd
DTSTAMP:20260422T120415Z
DTSTART:20260321T130000Z
DTEND:20260321T170000Z
LOCATION:The Mulehouse 812 S. High St.
SUMMARY:The Mulehouse Wedding Collective
DESCRIPTION:Join us on March 21st from 1–5 PM at The Mulehouse for an imm
 ersive bridal experience designed to inspire your wedding dreams. Tour the 
 stunning new Mulehouse venue while enjoying curated tastings\,  signature c
 ocktails\,  and live music. Meet some of our favorite wedding professionals
  — from florists and caterers to[..]\nhttps://www.experiencemaury.com/eve
 nts/the-mulehouse-wedding-collective/
URL:https://www.experiencemaury.com/events/the-mulehouse-wedding-collective/
END:VEVENT
END:VCALENDAR