BEGIN:VCALENDAR
VERSION:2.0
PRODID:-//eventon.com NONSGML v1.0//EN
CALSCALE:GREGORIAN
METHOD:PUBLISH
BEGIN:VEVENT
UID:69e8be0838719
DTSTAMP:20260422T122440Z
DTSTART:20261002T170000Z
DTEND:20261002T200000Z
LOCATION:Downtown Columbia 41 Public Square
SUMMARY:October First Fridays
DESCRIPTION:First Fridays is back in Downtown Columbia!! Join us for this m
 onthly free event on October 2nd from 5–8 PM in downtown Columbia!  Shop
  craft vendors and support vendors who are young entrepreneurs. Grab dinne
 r from a food truck or a downtown restaurants. Interact with local busines
 ses\,  organizations\,  and non-profits. Enjoy LIVE music[..]\nhttps://www
 .experiencemaury.com/events/october-first-fridays/
URL:https://www.experiencemaury.com/events/october-first-fridays/
END:VEVENT
END:VCALENDAR