BEGIN:VCALENDAR
VERSION:2.0
PRODID:-//eventon.com NONSGML v1.0//EN
CALSCALE:GREGORIAN
METHOD:PUBLISH
BEGIN:VEVENT
UID:69e49e9514344
DTSTAMP:20260419T092125Z
DTSTART:20260703T170000Z
DTEND:20260703T200000Z
LOCATION:Downtown Columbia 41 Public Square
SUMMARY:July First Fridays
DESCRIPTION:First Fridays is back in Downtown Columbia!! Join us for this m
 onthly free event on July 3rd from 5–8 PM in downtown Columbia!  Shop cr
 aft vendors and support vendors who are young entrepreneurs. Grab dinner f
 rom a food truck or a downtown restaurants. Interact with local businesses
 \,  organizations\,  and non-profits. Enjoy LIVE music[..]\nhttps://www.ex
 periencemaury.com/events/july-first-fridays/
URL:https://www.experiencemaury.com/events/july-first-fridays/
END:VEVENT
END:VCALENDAR