BEGIN:VCALENDAR
VERSION:2.0
PRODID:-//eventon.com NONSGML v1.0//EN
CALSCALE:GREGORIAN
METHOD:PUBLISH
BEGIN:VEVENT
UID:69e8a37714c37
DTSTAMP:20260422T103119Z
DTSTART:20260218T160000Z
DTEND:20260218T190000Z
LOCATION:Factory at Columbia 101 N. James Campbell Blvd.
SUMMARY:Indoor Weeknight Farmers Market
DESCRIPTION:It’s finally here\,  Columbia! The NEW &amp; long-awaited IND
 OOR Weeknight Farmers Market is coming to The Factory at Columbia Our goal 
 is to create a true local farmers market experience — prioritizing local 
 farmers\,  growers\,  bakers\,  and handmade food &amp; artisan producers (
 think local meats\,  produce\,  tallow\,  holistic goods\,  handmade[..]\nh
 ttps://www.experiencemaury.com/events/indoor-weeknight-farmers-market/
URL:https://www.experiencemaury.com/events/indoor-weeknight-farmers-market/
END:VEVENT
END:VCALENDAR