BEGIN:VCALENDAR
VERSION:2.0
PRODID:-//eventon.com NONSGML v1.0//EN
CALSCALE:GREGORIAN
METHOD:PUBLISH
BEGIN:VEVENT
UID:69e8d5c68aca4
DTSTAMP:20260422T140558Z
DTSTART:20260305T190000Z
DTEND:20260305T094300Z
LOCATION:The Mulehouse 812 S. High St.
SUMMARY:Brent Loper with the All-Star Band at The Mulehouse
DESCRIPTION:Brent Loper &amp; The All-Star Band deliver a high-energy\,  a
 uthentic country music experience rooted in tradition\,  musicianship\,  an
 d storytelling. Nashville-based singer\,  songwriter\,  and multi-instrumen
 talist Brent Loper brings years of touring and songwriting experience to th
 e stage\,  including collaborations with industry legends like Vince Gill\,
   Steve Dorff\,  and Craig Campbell. His career[..]\nhttps://www.experience
 maury.com/events/brent-loper-with-the-all-star-band-at-the-mulehouse/
URL:https://www.experiencemaury.com/events/brent-loper-with-the-all-star-band-at-the-mulehouse/
END:VEVENT
END:VCALENDAR