BEGIN:VCALENDAR
VERSION:2.0
PRODID:-//eventon.com NONSGML v1.0//EN
CALSCALE:GREGORIAN
METHOD:PUBLISH
BEGIN:VEVENT
UID:69e88d147c724
DTSTAMP:20260422T085548Z
DTSTART:20260108T083000Z
DTEND:20260108T235900Z
LOCATION:
SUMMARY:Coffee & Commerce
DESCRIPTION:The Spring Hill Chamber of Commerce invites you to the January 
 Coffee &amp; Commerce Mixer on Thursday\,  January 8\,  2025\,  at 8:30 AM\
 ,  STAY TUNED &#8211; location TBD! Kickstart your morning by connecting wi
 th fellow Chamber members and local professionals while enjoying coffee and
  light refreshments. This networking event offers[..]\nhttps://www.experien
 cemaury.com/events/coffee-commerce/
URL:https://www.experiencemaury.com/events/coffee-commerce/
END:VEVENT
END:VCALENDAR