BEGIN:VCALENDAR
VERSION:2.0
PRODID:-//eventon.com NONSGML v1.0//EN
CALSCALE:GREGORIAN
METHOD:PUBLISH
BEGIN:VEVENT
UID:69e8a2db5b900
DTSTAMP:20260422T102843Z
DTSTART:20251213T190000Z
DTEND:20251213T220000Z
LOCATION:Southern Bayou Kitchen 4926 Port Royal Rd. Suite D
SUMMARY:Monthly Line Dance Party at Southern Bayou Kitchen
DESCRIPTION:Monthly Line Dance Party at The Southern Bayou Kitchen\nhttps:/
 /www.experiencemaury.com/events/monthly-line-dance-party-at-southern-bayou-
 kitchen/
URL:https://www.experiencemaury.com/events/monthly-line-dance-party-at-southern-bayou-kitchen/
END:VEVENT
END:VCALENDAR