BEGIN:VCALENDAR
VERSION:2.0
PRODID:-//eventon.com NONSGML v1.0//EN
CALSCALE:GREGORIAN
METHOD:PUBLISH
BEGIN:VEVENT
UID:69e50fa5807d6
DTSTAMP:20260419T172349Z
DTSTART:20251220T193000Z
DTEND:20251220T235900Z
LOCATION:The Mulehouse 812 S. High St.
SUMMARY:A Tender Tennessee Christmas Show with Gary Chapman & Friends at The Mulehouse
DESCRIPTION:A Tennessee Christmas Show with Gary Chapman! Celebrate this ho
 ly season with your favorite Christmas classics! Join in this community wid
 e carol sing with Gary and his special guests. This warm and festive evenin
 g will be filled with music\,  stories\,  and joy! Known for heartfelt song
 s like “My Father’s Eyes”[..]\nhttps://www.experiencemaury.com/events
 /a-tender-tennessee-christmas-show-with-gary-chapman-friends-at-the-mulehou
 se/
URL:https://www.experiencemaury.com/events/a-tender-tennessee-christmas-show-with-gary-chapman-friends-at-the-mulehouse/
END:VEVENT
END:VCALENDAR