BEGIN:VCALENDAR
VERSION:2.0
PRODID:-//eventon.com NONSGML v1.0//EN
CALSCALE:GREGORIAN
METHOD:PUBLISH
BEGIN:VEVENT
UID:69e88c5c96b7b
DTSTAMP:20260422T085244Z
DTSTART:20260607T150000Z
DTEND:20260607T100200Z
LOCATION:Columbia Academy High School Auditorium 1101 W. 7th St.
SUMMARY:Steel Magnolias
DESCRIPTION:This touching story set in a beauty parlor in Chinquapin\,  Lou
 isiana\,  centers around six women who share their regular hair appointment
 s\,  gossip and important life moments\,  such as Shelby’s wedding to a 
 good ole boy.” Over the course of time the bonds strengthen among them 
 as Truvy\,  Annelle\,  Ouiser\,  and[..]\nhttps://www.experiencemaury.com/e
 vents/steel-magnolias/var/ri-5.l-L1
URL:https://www.experiencemaury.com/events/steel-magnolias/var/ri-5.l-L1
END:VEVENT
END:VCALENDAR