BEGIN:VCALENDAR
VERSION:2.0
PRODID:-//eventon.com NONSGML v1.0//EN
CALSCALE:GREGORIAN
METHOD:PUBLISH
BEGIN:VEVENT
UID:69e88c76bd026
DTSTAMP:20260422T085310Z
DTSTART:20251028T190000Z
DTEND:20251028T235900Z
LOCATION:The Mulehouse 812 S. High St.
SUMMARY:FREE CONCERT! Joseph Hadebank @ The Mulehouse
DESCRIPTION:TWO FREE CONCERTSand upcoming TV tapings at The Mulehouse next 
 week!!• Tues\,  October 28th – Joseph Habedank at 7 PM• Weds\,  Octob
 er 29th – Wilson Fairchild at 7 PM These are FREE shows.  Feel free to 
 pass along to anyone who might be interested! RSVP via email here: briannap
 latter@gmail.com. First come\, [..]\nhttps://www.experiencemaury.com/events
 /free-concert-joseph-hadebank-the-mulehouse/
URL:https://www.experiencemaury.com/events/free-concert-joseph-hadebank-the-mulehouse/
END:VEVENT
END:VCALENDAR