BEGIN:VCALENDAR
VERSION:2.0
PRODID:-//eventon.com NONSGML v1.0//EN
CALSCALE:GREGORIAN
METHOD:PUBLISH
BEGIN:VEVENT
UID:69e88c65a805f
DTSTAMP:20260422T085253Z
DTSTART:20251018T183000Z
DTEND:20251018T235900Z
LOCATION:Columbia Aquatics &amp; Recreation Center 1446 Oak Springs Dr.
SUMMARY:Movie & S'mores: The Addams Family 2
DESCRIPTION:Get cozy by the fire and enjoy a night of family fun under the 
 stars! Join us on Saturday\,  October 18 at the Columbia Aquatics &amp; Rec
 reation Center for a special outdoor movie night featuring The Addams Famil
 y 2. We’ll kick things off with delicious s’mores\,  roasted and enjoye
 d while[..]\nhttps://www.experiencemaury.com/events/movie-smores-the-addams
 -family-2/
URL:https://www.experiencemaury.com/events/movie-smores-the-addams-family-2/
END:VEVENT
END:VCALENDAR