BEGIN:VCALENDAR
VERSION:2.0
PRODID:-//eventon.com NONSGML v1.0//EN
CALSCALE:GREGORIAN
METHOD:PUBLISH
BEGIN:VEVENT
UID:69e8a2b8849a7
DTSTAMP:20260422T102808Z
DTSTART:20251101T160000Z
DTEND:20251101T190000Z
LOCATION:Highland Park Baptist Church 1800 Highland Ave.
SUMMARY:2025 Fall Festival & Trunk-or-Treat
DESCRIPTION:Join us for our annual fall festival. This FREE event is for th
 e entire family! We will have hot dogs and chili\,  games\,  music\,  and a
  bounce house! Trunk-or-Treat begins at 4pm!\nhttps://www.experiencemaury.c
 om/events/2025-fall-festival-trunk-or-treat/
URL:https://www.experiencemaury.com/events/2025-fall-festival-trunk-or-treat/
END:VEVENT
END:VCALENDAR