BEGIN:VCALENDAR
VERSION:2.0
PRODID:-//eventon.com NONSGML v1.0//EN
CALSCALE:GREGORIAN
METHOD:PUBLISH
BEGIN:VEVENT
UID:69e88c71c122d
DTSTAMP:20260422T085305Z
DTSTART:20251003T170000Z
DTEND:20251003T200000Z
LOCATION:Baxter&#039;s Mercantile 808 S. Garden St.
SUMMARY:Witches Night Out
DESCRIPTION:Grab your broomsticks-tonight’s the night! Join us For our an
 nual Witches Night Out\,  where the magic is Flowing\,  the laughs are brew
 ing. and the cauldrons never run dry. Don’t miss this spellbinding evenin
 g!&#8221;\nhttps://www.experiencemaury.com/events/witches-night-out/
URL:https://www.experiencemaury.com/events/witches-night-out/
END:VEVENT
END:VCALENDAR