BEGIN:VCALENDAR
VERSION:2.0
PRODID:-//eventon.com NONSGML v1.0//EN
CALSCALE:GREGORIAN
METHOD:PUBLISH
BEGIN:VEVENT
UID:69e88cb949297
DTSTAMP:20260422T085417Z
DTSTART:20251018T110000Z
DTEND:20251018T160000Z
LOCATION:Friendship Missionary Baptist Church of Columbia TN 1239 Witherspoon Rd.
SUMMARY:FMBC FALL FESTIVAL 2025
DESCRIPTION:FREE…FOODFUNFELLOWSHIP Hayrides &#8211; Horseback Rides &#821
 1; Decorate a Pumpkin &#8211; Cake Walk &#8211; Bingo &#8211; Corn Hole TOU
 RNAMENT &#8211; Bounce House &#8211; Tug of War &amp; more…\nhttps://www.
 experiencemaury.com/events/fmbc-fall-festival-2025/
URL:https://www.experiencemaury.com/events/fmbc-fall-festival-2025/
END:VEVENT
END:VCALENDAR