BEGIN:VCALENDAR
VERSION:2.0
PRODID:-//eventon.com NONSGML v1.0//EN
CALSCALE:GREGORIAN
METHOD:PUBLISH
BEGIN:VEVENT
UID:69e8a28359ab2
DTSTAMP:20260422T102715Z
DTSTART:20251107T170000Z
DTEND:20251107T200000Z
LOCATION:4 Public Square\,  Columbia\,  TN 38401\,  USA 4 Public Square\,  Columbia\,  TN 38401\,  USA
SUMMARY:Columbia First Fridays
DESCRIPTION:Columbia First Fridays\nhttps://www.experiencemaury.com/events/
 columbia-first-fridays-5/
URL:https://www.experiencemaury.com/events/columbia-first-fridays-5/
END:VEVENT
END:VCALENDAR