BEGIN:VCALENDAR
VERSION:2.0
PRODID:-//eventon.com NONSGML v1.0//EN
CALSCALE:GREGORIAN
METHOD:PUBLISH
BEGIN:VEVENT
UID:69e8b8b897fd6
DTSTAMP:20260422T120200Z
DTSTART:20251023T080000Z
DTEND:20251023T090000Z
LOCATION:307 W 11th St\,  Columbia\,  TN 38401\,  USA 307 W 11th St\,  Columbia\,  TN 38401\,  USA
SUMMARY:Young Professionals Coffee
DESCRIPTION:Young Professionals Coffee\nhttps://www.experiencemaury.com/eve
 nts/young-professionals-coffee/
URL:https://www.experiencemaury.com/events/young-professionals-coffee/
END:VEVENT
END:VCALENDAR