BEGIN:VCALENDAR
VERSION:2.0
PRODID:-//eventon.com NONSGML v1.0//EN
CALSCALE:GREGORIAN
METHOD:PUBLISH
BEGIN:VEVENT
UID:69e8a3a99356d
DTSTAMP:20260422T103209Z
DTSTART:20251004T150000Z
DTEND:20251004T190000Z
LOCATION:794 Ridgetop Rd\,  Hampshire\,  TN 38461\,  USA 794 Ridgetop Rd\,  Hampshire\,  TN 38461\,  USA
SUMMARY:Music on the Ridge at Amber Falls
DESCRIPTION:Music on the Ridge at Amber Falls\nhttps://www.experiencemaury.
 com/events/music-on-the-ridge-at-amber-falls-30/
URL:https://www.experiencemaury.com/events/music-on-the-ridge-at-amber-falls-30/
END:VEVENT
END:VCALENDAR